BEGIN:VCALENDAR
VERSION:2.0
PRODID:-//The Philips College - ECPv5.0.3.1//NONSGML v1.0//EN
CALSCALE:GREGORIAN
METHOD:PUBLISH
X-WR-CALNAME:The Philips College
X-ORIGINAL-URL:https://philips.ac.cy
X-WR-CALDESC:Events for The Philips College
BEGIN:VTIMEZONE
TZID:UTC
BEGIN:STANDARD
TZOFFSETFROM:+0000
TZOFFSETTO:+0000
TZNAME:UTC
DTSTART:20180101T000000
END:STANDARD
END:VTIMEZONE
BEGIN:VEVENT
DTSTART;VALUE=DATE:20180330
DTEND;VALUE=DATE:20180331
DTSTAMP:20260423T110026
CREATED:20180322T104710Z
LAST-MODIFIED:20180322T104710Z
UID:14446-1522368000-1522454399@philips.ac.cy
SUMMARY:Classes end at close of academic day for Easter  vacation
DESCRIPTION:Classes end at close of academic day for Easter \nvacation \n
URL:https://philips.ac.cy/event/classes-end-at-close-of-academic-day-for-easter-vacation/
CATEGORIES:Academics
END:VEVENT
END:VCALENDAR