BEGIN:VCALENDAR
VERSION:2.0
PRODID:-//The Philips College - ECPv5.0.3.1//NONSGML v1.0//EN
CALSCALE:GREGORIAN
METHOD:PUBLISH
X-WR-CALNAME:The Philips College
X-ORIGINAL-URL:https://philips.ac.cy
X-WR-CALDESC:Events for The Philips College
BEGIN:VTIMEZONE
TZID:UTC
BEGIN:STANDARD
TZOFFSETFROM:+0000
TZOFFSETTO:+0000
TZNAME:UTC
DTSTART:20180101T000000
END:STANDARD
END:VTIMEZONE
BEGIN:VEVENT
DTSTART;VALUE=DATE:20180511
DTEND;VALUE=DATE:20180512
DTSTAMP:20260421T093750
CREATED:20180322T104907Z
LAST-MODIFIED:20180322T104907Z
UID:14452-1525996800-1526083199@philips.ac.cy
SUMMARY:Classes end at close of academic day for Spring Semester Examinations
DESCRIPTION:Classes end at close of academic day for Spring\nSemester Examinations \n
URL:https://philips.ac.cy/event/classes-end-at-close-of-academic-day-for-spring-semester-examinations/
CATEGORIES:Academics
END:VEVENT
END:VCALENDAR